BEGIN:VCALENDAR
VERSION:2.0
PRODID:spatie/icalendar-generator
DESCRIPTION:Events from Tohtoriverkosto
X-WR-CALDESC:Events from Tohtoriverkosto
REFRESH-INTERVAL;VALUE=DURATION:PT1440M
X-PUBLISHED-TTL:PT1440M
BEGIN:VTIMEZONE
TZID:Etc/GMT-2
BEGIN:STANDARD
DTSTART:20250705T163000Z
TZOFFSETFROM:+0200
TZOFFSETTO:+0200
END:STANDARD
END:VTIMEZONE
BEGIN:VTIMEZONE
TZID:UTC
BEGIN:STANDARD
DTSTART:20250726T085912Z
TZOFFSETFROM:+0000
TZOFFSETTO:+0000
END:STANDARD
END:VTIMEZONE
BEGIN:VEVENT
UID:13-9
DTSTAMP:20260422T085912Z
SUMMARY:Timanttinen CV
LOCATION:
ORGANIZER;CN=Miia:MAILTO:mkosonen@proton.me
DTSTART;TZID=Etc/GMT-2:20260401T163000
DTEND;TZID=Etc/GMT-2:20260401T180000
X-ALT-DESC;FMTTYPE=TEXT/HTML:Oman osaamisen markkinoinnin tärkein dokument
 ti on CV. Se on kuin myyntiesite\, jolla tuodaan esiin osaamisesi laatu ja
  sopivuus asiakkaan tarpeisiin. Samalla CV on yksi työnäyte\, joka viest
 ii tekijänsä työn laadusta. On tärkeää\, että myyntiesite on tuotte
 en veroinen. Eli timanttinen. Tässä työpajassa opit tämän kaiken: –
  Kiteyttämään osaamisesi niin\, että se herättää lukijan mielenkiin
 non – Laatimaan&amp;hellip\;
CATEGORIES:Ura
URL;VALUE=URI:https://www.tohtoriverkosto.fi/mc-events/timanttinen-cv/
METHOD:PUBLISH
END:VEVENT
END:VCALENDAR